BEGIN:VCALENDAR
VERSION:2.0
PRODID:-//Illumination Learning Studio - ECPv6.15.18//NONSGML v1.0//EN
CALSCALE:GREGORIAN
METHOD:PUBLISH
X-ORIGINAL-URL:https://www.illuminationlearningstudio.com
X-WR-CALDESC:Events for Illumination Learning Studio
REFRESH-INTERVAL;VALUE=DURATION:PT1H
X-Robots-Tag:noindex
X-PUBLISHED-TTL:PT1H
BEGIN:VTIMEZONE
TZID:America/Los_Angeles
BEGIN:DAYLIGHT
TZOFFSETFROM:-0800
TZOFFSETTO:-0700
TZNAME:PDT
DTSTART:20170312T100000
END:DAYLIGHT
BEGIN:STANDARD
TZOFFSETFROM:-0700
TZOFFSETTO:-0800
TZNAME:PST
DTSTART:20171105T090000
END:STANDARD
BEGIN:DAYLIGHT
TZOFFSETFROM:-0800
TZOFFSETTO:-0700
TZNAME:PDT
DTSTART:20180311T100000
END:DAYLIGHT
BEGIN:STANDARD
TZOFFSETFROM:-0700
TZOFFSETTO:-0800
TZNAME:PST
DTSTART:20181104T090000
END:STANDARD
BEGIN:DAYLIGHT
TZOFFSETFROM:-0800
TZOFFSETTO:-0700
TZNAME:PDT
DTSTART:20190310T100000
END:DAYLIGHT
BEGIN:STANDARD
TZOFFSETFROM:-0700
TZOFFSETTO:-0800
TZNAME:PST
DTSTART:20191103T090000
END:STANDARD
END:VTIMEZONE
BEGIN:VEVENT
DTSTART;VALUE=DATE:20181111
DTEND;VALUE=DATE:20181113
DTSTAMP:20260423T014415
CREATED:20181110T084724Z
LAST-MODIFIED:20181110T085236Z
UID:1827-1541952000-1542038399@www.illuminationlearningstudio.com
SUMMARY:ILS Closed - Veteran’s Day
DESCRIPTION:No programs\, lessons or camps will occur on this date.
URL:https://www.illuminationlearningstudio.com/events/veterans-day-ils-is-closed-no-programs-lessons-or-camps-will-occur-on-this-date/
LOCATION:WA
CATEGORIES:ILS Closure Days
END:VEVENT
BEGIN:VEVENT
DTSTART;VALUE=DATE:20181121
DTEND;VALUE=DATE:20181124
DTSTAMP:20260423T014415
CREATED:20181110T085357Z
LAST-MODIFIED:20181110T085357Z
UID:1828-1542816000-1542988799@www.illuminationlearningstudio.com
SUMMARY:ILS Closed - Thanksgiving
DESCRIPTION:No programs\, lessons or camps will occur on this date.
URL:https://www.illuminationlearningstudio.com/events/veterans-day-ils-is-closed-no-programs-lessons-or-camps-will-occur-on-this-date-2/
LOCATION:WA
CATEGORIES:ILS Closure Days
END:VEVENT
END:VCALENDAR