BEGIN:VCALENDAR
VERSION:2.0
PRODID:-//Illumination Learning Studio - ECPv6.15.18//NONSGML v1.0//EN
CALSCALE:GREGORIAN
METHOD:PUBLISH
X-WR-CALNAME:Illumination Learning Studio
X-ORIGINAL-URL:https://www.illuminationlearningstudio.com
X-WR-CALDESC:Events for Illumination Learning Studio
REFRESH-INTERVAL;VALUE=DURATION:PT1H
X-Robots-Tag:noindex
X-PUBLISHED-TTL:PT1H
BEGIN:VTIMEZONE
TZID:America/Los_Angeles
BEGIN:DAYLIGHT
TZOFFSETFROM:-0800
TZOFFSETTO:-0700
TZNAME:PDT
DTSTART:20170312T100000
END:DAYLIGHT
BEGIN:STANDARD
TZOFFSETFROM:-0700
TZOFFSETTO:-0800
TZNAME:PST
DTSTART:20171105T090000
END:STANDARD
BEGIN:DAYLIGHT
TZOFFSETFROM:-0800
TZOFFSETTO:-0700
TZNAME:PDT
DTSTART:20180311T100000
END:DAYLIGHT
BEGIN:STANDARD
TZOFFSETFROM:-0700
TZOFFSETTO:-0800
TZNAME:PST
DTSTART:20181104T090000
END:STANDARD
BEGIN:DAYLIGHT
TZOFFSETFROM:-0800
TZOFFSETTO:-0700
TZNAME:PDT
DTSTART:20190310T100000
END:DAYLIGHT
BEGIN:STANDARD
TZOFFSETFROM:-0700
TZOFFSETTO:-0800
TZNAME:PST
DTSTART:20191103T090000
END:STANDARD
END:VTIMEZONE
BEGIN:VEVENT
DTSTART;VALUE=DATE:20181220
DTEND;VALUE=DATE:20181222
DTSTAMP:20260421T010510
CREATED:20181110T103427Z
LAST-MODIFIED:20181110T103427Z
UID:1847-1545321600-1545407999@www.illuminationlearningstudio.com
SUMMARY:1-hour early dismissal prior to Winter Break
DESCRIPTION:December 21 – 1-hour early dismissal prior to Winter Break
URL:https://www.illuminationlearningstudio.com/events/1-hour-early-dismissal-prior-to-winter-break/
LOCATION:WA\, United States
CATEGORIES:ILS Closure Days
END:VEVENT
END:VCALENDAR