BEGIN:VCALENDAR
VERSION:2.0
PRODID:-//Illumination Learning Studio - ECPv6.15.18//NONSGML v1.0//EN
CALSCALE:GREGORIAN
METHOD:PUBLISH
X-WR-CALNAME:Illumination Learning Studio
X-ORIGINAL-URL:https://www.illuminationlearningstudio.com
X-WR-CALDESC:Events for Illumination Learning Studio
REFRESH-INTERVAL;VALUE=DURATION:PT1H
X-Robots-Tag:noindex
X-PUBLISHED-TTL:PT1H
BEGIN:VTIMEZONE
TZID:America/Los_Angeles
BEGIN:DAYLIGHT
TZOFFSETFROM:-0800
TZOFFSETTO:-0700
TZNAME:PDT
DTSTART:20240310T100000
END:DAYLIGHT
BEGIN:STANDARD
TZOFFSETFROM:-0700
TZOFFSETTO:-0800
TZNAME:PST
DTSTART:20241103T090000
END:STANDARD
BEGIN:DAYLIGHT
TZOFFSETFROM:-0800
TZOFFSETTO:-0700
TZNAME:PDT
DTSTART:20250309T100000
END:DAYLIGHT
BEGIN:STANDARD
TZOFFSETFROM:-0700
TZOFFSETTO:-0800
TZNAME:PST
DTSTART:20251102T090000
END:STANDARD
BEGIN:DAYLIGHT
TZOFFSETFROM:-0800
TZOFFSETTO:-0700
TZNAME:PDT
DTSTART:20260308T100000
END:DAYLIGHT
BEGIN:STANDARD
TZOFFSETFROM:-0700
TZOFFSETTO:-0800
TZNAME:PST
DTSTART:20261101T090000
END:STANDARD
END:VTIMEZONE
BEGIN:VEVENT
DTSTART;TZID=America/Los_Angeles:20250201T100000
DTEND;TZID=America/Los_Angeles:20250201T110000
DTSTAMP:20260420T020219
CREATED:20241219T212732Z
LAST-MODIFIED:20241219T213125Z
UID:17026-1738404000-1738407600@www.illuminationlearningstudio.com
SUMMARY:Toddler Music and Movement - Winter Session
DESCRIPTION:This class lets toddlers and their parents or caregivers explore the joys of music\, learning to recognize rhythms\, practicing large motor coordination\, and socializing with other families through song. Participants will learn through echoing and sequencing\, rhythm and movement\, ear training\, and exploration of piano keys and instruments. \nJan 18 – Mar 1\, 2025 – Join all 6 weeks for $135\, or drop in on your preferred Saturdays for $24. \nLearn more and register at https://illumination-learning-studio.jumbula.com/ILSPreK202425/ILSToddlerMusicandMovementWinterSession1 \n**Class will not meet on February 22nd during MidWinter Break**
URL:https://www.illuminationlearningstudio.com/events/winter-session-i-class-3/
LOCATION:Greenwood ILS Campus\, 7720 Greenwood Ave N. Suite 101\, Seattle\, 98103\, United States
CATEGORIES:Classes
ATTACH;FMTTYPE=image/png:https://www.illuminationlearningstudio.com/wp-content/uploads/2024/12/Music-and-Movement-Rev-10.2.png
END:VEVENT
BEGIN:VEVENT
DTSTART;TZID=America/Los_Angeles:20250208T100000
DTEND;TZID=America/Los_Angeles:20250208T110000
DTSTAMP:20260420T020219
CREATED:20250127T001416Z
LAST-MODIFIED:20250127T001416Z
UID:17143-1739008800-1739012400@www.illuminationlearningstudio.com
SUMMARY:Toddler Music and Movement - Winter Session
DESCRIPTION:This class lets toddlers and their parents or caregivers explore the joys of music\, learning to recognize rhythms\, practicing large motor coordination\, and socializing with other families through song. Participants will learn through echoing and sequencing\, rhythm and movement\, ear training\, and exploration of piano keys and instruments. \nJan 18 – Mar 1\, 2025 – Join all 6 weeks for $135\, or drop in on your preferred Saturdays for $24. \nLearn more and register at https://illumination-learning-studio.jumbula.com/ILSPreK202425/ILSToddlerMusicandMovementWinterSession1 \n**Class will not meet on February 22nd during MidWinter Break**
URL:https://www.illuminationlearningstudio.com/events/winter-session-i-class-4/
LOCATION:Greenwood ILS Campus\, 7720 Greenwood Ave N. Suite 101\, Seattle\, 98103\, United States
CATEGORIES:Classes
ATTACH;FMTTYPE=image/png:https://www.illuminationlearningstudio.com/wp-content/uploads/2024/12/Music-and-Movement-Rev-10.2.png
END:VEVENT
BEGIN:VEVENT
DTSTART;TZID=America/Los_Angeles:20250208T110000
DTEND;TZID=America/Los_Angeles:20250208T150000
DTSTAMP:20260420T020219
CREATED:20250131T194402Z
LAST-MODIFIED:20250131T194711Z
UID:17148-1739012400-1739026800@www.illuminationlearningstudio.com
SUMMARY:Greenwood Library - 20th Anniversary Celebration
DESCRIPTION:Celebrate Greenwood Branch’s “Libraries for All” 20th Anniversary celebration!\n\n\n\n Enjoy a special sing-along performance by ILS’s after-school arts students at 11 AM (an encore of our Winter Showcase\, featuring songs from *Frozen Kids*)\, and a beautiful flute performance by two of our talented music students at 2 PM.\n\n\n\nEnjoy works from our after school artist spotlights\, luminaries created by our PreK Lumineers\, and special decorations crafted by after school students in both the K-1 classroom and main Greenwood studio.\n\n\n\n Enter to win raffle prizes from Couth Buzzard and Phinney Books\, join library storytimes\, and of course\, enjoy some birthday cake! \n\n\n\nDon’t miss this day full of fun\, music\, and community celebration. We can’t wait to share in the celebrations! \n\n#GreenwoodLibrary #communitycelebration\n\n\n\nhttps://bit.ly/GreenwoodLibraryCelebration
URL:https://www.illuminationlearningstudio.com/events/greenwood-library-20th-anniversary-celebration/
LOCATION:Seattle Public Library – Greenwood Branch\, 8016 Greenwood Ave N\, Seattle\, WA\, 98103\, United States
CATEGORIES:Community Events,Performances
ATTACH;FMTTYPE=image/jpeg:https://www.illuminationlearningstudio.com/wp-content/uploads/2025/01/Greenwood-Library-2.jpg
END:VEVENT
BEGIN:VEVENT
DTSTART;TZID=America/Los_Angeles:20250215T100000
DTEND;TZID=America/Los_Angeles:20250215T110000
DTSTAMP:20260420T020219
CREATED:20250127T001513Z
LAST-MODIFIED:20250127T001526Z
UID:17144-1739613600-1739617200@www.illuminationlearningstudio.com
SUMMARY:Toddler Music and Movement - Winter Session
DESCRIPTION:This class lets toddlers and their parents or caregivers explore the joys of music\, learning to recognize rhythms\, practicing large motor coordination\, and socializing with other families through song. Participants will learn through echoing and sequencing\, rhythm and movement\, ear training\, and exploration of piano keys and instruments. \nJan 18 – Mar 1\, 2025 – Join all 6 weeks for $135\, or drop in on your preferred Saturdays for $24. \nLearn more and register at https://illumination-learning-studio.jumbula.com/ILSPreK202425/ILSToddlerMusicandMovementWinterSession1 \n**Class will not meet on February 22nd during MidWinter Break**
URL:https://www.illuminationlearningstudio.com/events/winter-session-i-class-5/
LOCATION:Greenwood ILS Campus\, 7720 Greenwood Ave N. Suite 101\, Seattle\, 98103\, United States
CATEGORIES:Classes
ATTACH;FMTTYPE=image/png:https://www.illuminationlearningstudio.com/wp-content/uploads/2024/12/Music-and-Movement-Rev-10.2.png
END:VEVENT
BEGIN:VEVENT
DTSTART;TZID=America/Los_Angeles:20250222T093000
DTEND;TZID=America/Los_Angeles:20250222T110000
DTSTAMP:20260420T020219
CREATED:20250124T212803Z
LAST-MODIFIED:20250124T212837Z
UID:17140-1740216600-1740222000@www.illuminationlearningstudio.com
SUMMARY:ILS Preschool and Pre-K Open House
DESCRIPTION:Join us for an exciting opportunity to dive into the world of our unique immersive arts curriculum taught at ILS’s Preschool and Pre-K. Discover the magic of our classroom\, meet our dedicated teachers and founders\, and learn why we are so passionate about nurturing young minds through the arts. If you plan to join us\, we’d appreciate if you’d register using the link below so that we can have enough supplies for everyone. Thank you! \nDon’t miss our special preschool music class sampler for families at 10:15am! (Class space limited to 15 families) \nA bit about ILS: Starting with our very youngest learners\, we incorporate age-appropriate lessons in music\, art\, drama\, yoga\, and Spanish in our half-day preschool. As students progress to our Pre-K classroom just down the road on 8th and Market\, they continue their weekly music classes with Mr. Mike and can begin private piano lessons. They also enjoy weekly classes with ILS’s drama teacher. When they graduate they’re ready – socially and academically – to start Kindergarten\, with the confidence and critical thinking nurtured by a foundation in the arts. \nWe’re excited to meet you and share our passion for early childhood education. \nWant to learn more? Visit ILS’s preschool page here. Have specific questions or want to schedule a tour outside of the open house? Email us at info@ilskids.com or contact us at 206.900.7452. \n 
URL:https://www.illuminationlearningstudio.com/events/ils-preschool-and-pre-k-open-house-feb2025/
LOCATION:Greenwood ILS Campus\, 7720 Greenwood Ave N. Suite 101\, Seattle\, 98103\, United States
CATEGORIES:Open House
ATTACH;FMTTYPE=image/jpeg:https://www.illuminationlearningstudio.com/wp-content/uploads/2025/01/Copy-of-PNA-Review-Winter.jpg
END:VEVENT
END:VCALENDAR